BEGIN:VCALENDAR
VERSION:2.0
PRODID:Imitheme.com 
BEGIN:VEVENT
UID:20260423T1431052085464517
DTSTAMP;TZID=UTC:2026-04-23 14:31:05
DTSTART;TZID=America/Los_Angeles:20260423T143105
DTEND;TZID=America/Los_Angeles:20260423T143105
SUMMARY:Mosaic Chapel
LOCATION:Mosaic Chapel
DESCRIPTION:Mosaic Chapel SUNDAYS 10:30 AM JESUS IS OUR MESSAGE FAMILY IS OUR HEART GENEROSITY IS OUR PRIVILEGE SERVICE IS OUR GIFT WE ARE LOCATED @ 8110 PARKWAY DR. LEEDS ALABAMA Website:  https://mosaicchapel.net/
URL:https://everyoneleeds.com/eventer/join-us-for-worship-mosaic-chapel/
END:VEVENT
END:VCALENDAR
