BEGIN:VCALENDAR
VERSION:2.0
PRODID:Imitheme.com 
BEGIN:VEVENT
UID:20260419T212418110413386
DTSTAMP;TZID=UTC:2026-04-19 21:24:18
DTSTART;TZID=America/Los_Angeles:20260419T212418
DTEND;TZID=America/Los_Angeles:20260419T212418
SUMMARY:Speed Networking Event | Leeds Main Street
LOCATION:
DESCRIPTION:Speed Networking Event | Leeds Main Street There is still time to register for the upcoming Speed Networking Event on March 9. If you or someone you know is interested in buying, selling, or renting property downtown, please attend our Speed Networking Event on March 9. Register here -> https://forms.gle/LdSZTLsUqAdtEtTj9 Thank you to those who have already registered. We look forward to hosting you! Amber Vines, LMS Executive Director - 205.422.0760
URL:https://everyoneleeds.com/eventer/speed-networking-event-leeds-main-street-march-9/
END:VEVENT
END:VCALENDAR
